BEGIN:VCALENDAR
CALSCALE:GREGORIAN
VERSION:2.0
PRODID:bfh.ch /iCal4j
BEGIN:VEVENT
DTSTAMP:20260422T095143Z
DTSTART;TZID=Europe/Zurich:20260506T190000
DTEND;TZID=Europe/Zurich:20260506T194500
SUMMARY:Einblick in den Unterricht von Equigarde®: Mittwoch\, 6. Mai 2026 | 19 bis 19.45 Uhr – Online
UID:72e5bd8c-c8c4-4f65-adce-a9b2d297b569
DESCRIPTION:Einblick in den Unterricht von Equigarde®: Mittwoch\, 6. Mai 2026 | 19 bis 19.45 Uhr – Online\nDatum: 06.05.2026\, 19.00–19.45 Uhr\nKosten: Gratis\n\n\nÄnderungen vorbehalten. Informieren Sie sich kurz vor der Veranstaltung über mögliche Änderungen.\nWeitere Informationen zur Veranstaltung: https://www.bfh.ch/de/aktuell/infoveranstaltungen/einblick-in-den-unterricht-von-equigarde-neu/
X-ALT-DESC;FMTTYPE=text/html:Einblick in den Unterricht von Equigarde®: Mittwoch\, 6. Mai 2026 | 19 bis 19.45 Uhr – Online<br>Datum: 06.05.2026\, 19.00–19.45 Uhr<br>Kosten: Gratis<br><br><br>Änderungen vorbehalten. Informieren Sie sich kurz vor der Veranstaltung über mögliche Änderungen.<br>Weitere Informationen zur Veranstaltung: <a href=\"https://www.bfh.ch/de/aktuell/infoveranstaltungen/einblick-in-den-unterricht-von-equigarde-neu/\">https://www.bfh.ch/de/aktuell/infoveranstaltungen/einblick-in-den-unterricht-von-equigarde-neu/</a>
LOCATION:Online Webkonferenz via Microsoft Teams
END:VEVENT
BEGIN:VTIMEZONE
TZID:Europe/Zurich
LAST-MODIFIED:20260306T231828Z
TZURL:https://www.tzurl.org/zoneinfo/Europe/Zurich
X-LIC-LOCATION:Europe/Zurich
X-PROLEPTIC-TZNAME:LMT
BEGIN:STANDARD
TZNAME:BMT
TZOFFSETFROM:+003408
TZOFFSETTO:+002946
DTSTART:18530716T000000
END:STANDARD
BEGIN:STANDARD
TZNAME:CET
TZOFFSETFROM:+002946
TZOFFSETTO:+0100
DTSTART:18940601T000000
END:STANDARD
BEGIN:DAYLIGHT
TZNAME:CEST
TZOFFSETFROM:+0100
TZOFFSETTO:+0200
DTSTART:19410505T010000
RRULE:FREQ=YEARLY;UNTIL=19420504T000000Z;BYMONTH=5;BYDAY=1MO
END:DAYLIGHT
BEGIN:STANDARD
TZNAME:CET
TZOFFSETFROM:+0200
TZOFFSETTO:+0100
DTSTART:19411006T020000
RRULE:FREQ=YEARLY;UNTIL=19421005T000000Z;BYMONTH=10;BYDAY=1MO
END:STANDARD
BEGIN:DAYLIGHT
TZNAME:CEST
TZOFFSETFROM:+0100
TZOFFSETTO:+0200
DTSTART:19810329T020000
RRULE:FREQ=YEARLY;BYMONTH=3;BYDAY=-1SU
END:DAYLIGHT
BEGIN:STANDARD
TZNAME:CET
TZOFFSETFROM:+0200
TZOFFSETTO:+0100
DTSTART:19810927T030000
RRULE:FREQ=YEARLY;UNTIL=19950924T010000Z;BYMONTH=9;BYDAY=-1SU
END:STANDARD
BEGIN:STANDARD
TZNAME:CET
TZOFFSETFROM:+0200
TZOFFSETTO:+0100
DTSTART:19961027T030000
RRULE:FREQ=YEARLY;BYMONTH=10;BYDAY=-1SU
END:STANDARD
END:VTIMEZONE
END:VCALENDAR
