BEGIN:VCALENDAR
CALSCALE:GREGORIAN
VERSION:2.0
PRODID:bfh.ch /iCal4j
BEGIN:VEVENT
DTSTAMP:20260423T050120Z
DTSTART;TZID=Europe/Zurich:20241025T090000
DTEND;TZID=Europe/Zurich:20241025T140000
SUMMARY:Gewalt und Sicherheit im Kontext von Flucht und Asyl: Erkenntnisse und Interventionsmöglichkeiten für Fachpersonen aus Wissenschaft und Praxis
UID:6ae7132a-6d03-4bee-936d-321d5feac6a2
DESCRIPTION:Gewalt und Sicherheit im Kontext von Flucht und Asyl: Erkenntnisse und Interventionsmöglichkeiten für Fachpersonen aus Wissenschaft und Praxis\nDatum: 25.10.2024\, 9.00–14.00 Uhr\nAnmeldefrist: 23. Oktober 2024\nKosten: Die Veranstaltung ist kostenlos. \n\n\nÄnderungen vorbehalten. Informieren Sie sich kurz vor der Veranstaltung über mögliche Änderungen.\nWeitere Informationen zur Veranstaltung: https://www.bfh.ch/de/aktuell/fachveranstaltungen/gewalt-und-sicherheit-241025/
X-ALT-DESC;FMTTYPE=text/html:Gewalt und Sicherheit im Kontext von Flucht und Asyl: Erkenntnisse und Interventionsmöglichkeiten für Fachpersonen aus Wissenschaft und Praxis<br>Datum: 25.10.2024\, 9.00–14.00 Uhr<br>Anmeldefrist: 23. Oktober 2024<br>Kosten: Die Veranstaltung ist kostenlos. <br><br><br>Änderungen vorbehalten. Informieren Sie sich kurz vor der Veranstaltung über mögliche Änderungen.<br>Weitere Informationen zur Veranstaltung: <a href=\"https://www.bfh.ch/de/aktuell/fachveranstaltungen/gewalt-und-sicherheit-241025/\">https://www.bfh.ch/de/aktuell/fachveranstaltungen/gewalt-und-sicherheit-241025/</a>
LOCATION:Kongresszentrum des Hotel Kreuz\, Zeughausgasse 41\, 3011 Bern\, im 1. Stock im Saal «Bovet»
END:VEVENT
BEGIN:VTIMEZONE
TZID:Europe/Zurich
LAST-MODIFIED:20260306T231828Z
TZURL:https://www.tzurl.org/zoneinfo/Europe/Zurich
X-LIC-LOCATION:Europe/Zurich
X-PROLEPTIC-TZNAME:LMT
BEGIN:STANDARD
TZNAME:BMT
TZOFFSETFROM:+003408
TZOFFSETTO:+002946
DTSTART:18530716T000000
END:STANDARD
BEGIN:STANDARD
TZNAME:CET
TZOFFSETFROM:+002946
TZOFFSETTO:+0100
DTSTART:18940601T000000
END:STANDARD
BEGIN:DAYLIGHT
TZNAME:CEST
TZOFFSETFROM:+0100
TZOFFSETTO:+0200
DTSTART:19410505T010000
RRULE:FREQ=YEARLY;UNTIL=19420504T000000Z;BYMONTH=5;BYDAY=1MO
END:DAYLIGHT
BEGIN:STANDARD
TZNAME:CET
TZOFFSETFROM:+0200
TZOFFSETTO:+0100
DTSTART:19411006T020000
RRULE:FREQ=YEARLY;UNTIL=19421005T000000Z;BYMONTH=10;BYDAY=1MO
END:STANDARD
BEGIN:DAYLIGHT
TZNAME:CEST
TZOFFSETFROM:+0100
TZOFFSETTO:+0200
DTSTART:19810329T020000
RRULE:FREQ=YEARLY;BYMONTH=3;BYDAY=-1SU
END:DAYLIGHT
BEGIN:STANDARD
TZNAME:CET
TZOFFSETFROM:+0200
TZOFFSETTO:+0100
DTSTART:19810927T030000
RRULE:FREQ=YEARLY;UNTIL=19950924T010000Z;BYMONTH=9;BYDAY=-1SU
END:STANDARD
BEGIN:STANDARD
TZNAME:CET
TZOFFSETFROM:+0200
TZOFFSETTO:+0100
DTSTART:19961027T030000
RRULE:FREQ=YEARLY;BYMONTH=10;BYDAY=-1SU
END:STANDARD
END:VTIMEZONE
END:VCALENDAR
