BEGIN:VCALENDAR
CALSCALE:GREGORIAN
VERSION:2.0
PRODID:bfh.ch /iCal4j
BEGIN:VEVENT
DTSTAMP:20260422T112636Z
DTSTART;VALUE=DATE:20261027
DTEND;VALUE=DATE:20261030
SUMMARY:International Staff Week 2026: Save the date
UID:9ee601d3-a4b2-4582-84d3-1ff84851b6c3
DESCRIPTION:International Staff Week 2026: Save the date\nDatum: 27.10.2026 bis 29.10.2026\nAnmeldefrist: Die Anmeldungen werden im Frühjahr/Frühsommer eröffnet.\n\n\nÄnderungen vorbehalten. Informieren Sie sich kurz vor der Veranstaltung über mögliche Änderungen.\nWeitere Informationen zur Veranstaltung: https://www.bfh.ch/de/aktuell/fachveranstaltungen/international-staff-week-2026/
X-ALT-DESC;FMTTYPE=text/html:International Staff Week 2026: Save the date<br>Datum: 27.10.2026 bis 29.10.2026<br>Anmeldefrist: Die Anmeldungen werden im Frühjahr/Frühsommer eröffnet.<br><br><br>Änderungen vorbehalten. Informieren Sie sich kurz vor der Veranstaltung über mögliche Änderungen.<br>Weitere Informationen zur Veranstaltung: <a href=\"https://www.bfh.ch/de/aktuell/fachveranstaltungen/international-staff-week-2026/\">https://www.bfh.ch/de/aktuell/fachveranstaltungen/international-staff-week-2026/</a>
LOCATION:Bern
END:VEVENT
BEGIN:VTIMEZONE
TZID:Europe/Zurich
LAST-MODIFIED:20260306T231828Z
TZURL:https://www.tzurl.org/zoneinfo/Europe/Zurich
X-LIC-LOCATION:Europe/Zurich
X-PROLEPTIC-TZNAME:LMT
BEGIN:STANDARD
TZNAME:BMT
TZOFFSETFROM:+003408
TZOFFSETTO:+002946
DTSTART:18530716T000000
END:STANDARD
BEGIN:STANDARD
TZNAME:CET
TZOFFSETFROM:+002946
TZOFFSETTO:+0100
DTSTART:18940601T000000
END:STANDARD
BEGIN:DAYLIGHT
TZNAME:CEST
TZOFFSETFROM:+0100
TZOFFSETTO:+0200
DTSTART:19410505T010000
RRULE:FREQ=YEARLY;UNTIL=19420504T000000Z;BYMONTH=5;BYDAY=1MO
END:DAYLIGHT
BEGIN:STANDARD
TZNAME:CET
TZOFFSETFROM:+0200
TZOFFSETTO:+0100
DTSTART:19411006T020000
RRULE:FREQ=YEARLY;UNTIL=19421005T000000Z;BYMONTH=10;BYDAY=1MO
END:STANDARD
BEGIN:DAYLIGHT
TZNAME:CEST
TZOFFSETFROM:+0100
TZOFFSETTO:+0200
DTSTART:19810329T020000
RRULE:FREQ=YEARLY;BYMONTH=3;BYDAY=-1SU
END:DAYLIGHT
BEGIN:STANDARD
TZNAME:CET
TZOFFSETFROM:+0200
TZOFFSETTO:+0100
DTSTART:19810927T030000
RRULE:FREQ=YEARLY;UNTIL=19950924T010000Z;BYMONTH=9;BYDAY=-1SU
END:STANDARD
BEGIN:STANDARD
TZNAME:CET
TZOFFSETFROM:+0200
TZOFFSETTO:+0100
DTSTART:19961027T030000
RRULE:FREQ=YEARLY;BYMONTH=10;BYDAY=-1SU
END:STANDARD
END:VTIMEZONE
END:VCALENDAR
