BEGIN:VCALENDAR
CALSCALE:GREGORIAN
VERSION:2.0
PRODID:bfh.ch /iCal4j
BEGIN:VEVENT
DTSTAMP:20260423T050717Z
DTSTART;TZID=Europe/Zurich:20250603T120000
DTEND;TZID=Europe/Zurich:20250603T130000
SUMMARY:Digital Snack: Prompt Engineering for Business Innovation: 03. Juni 2025
UID:b2a725d2-4105-47c1-803f-786748194e65
DESCRIPTION:Digital Snack: Prompt Engineering for Business Innovation: 03. Juni 2025\nDatum: 03.06.2025\, 12.00–13.00 Uhr\nKosten: Die Teilnahme ist kostenlos\nTeilnahmelink: https://teams.microsoft.com/l/meetup-join/19%3ameeting_YjEyYjJiMjAtOGQ2OC00NTY2LWIzZWItZDE3ODIzNmRlMmE4%40thread.v2/0?context=%7b%22Tid%22%3a%22d6a1cf8c-768e-4187-a738-b6e50c4deb4a%22%2c%22Oid%22%3a%22db6bb6cd-fba6-42d9-93b2-4df6d4dafb80%22%7d\n\n\nÄnderungen vorbehalten. Informieren Sie sich kurz vor der Veranstaltung über mögliche Änderungen.\nWeitere Informationen zur Veranstaltung: https://www.bfh.ch/de/aktuell/fachveranstaltungen/digital-snack-prompt-engineering-for-business-innovation/
X-ALT-DESC;FMTTYPE=text/html:Digital Snack: Prompt Engineering for Business Innovation: 03. Juni 2025<br>Datum: 03.06.2025\, 12.00–13.00 Uhr<br>Kosten: Die Teilnahme ist kostenlos<br>Teilnahmelink: <a href=\"https://teams.microsoft.com/l/meetup-join/19%3ameeting_YjEyYjJiMjAtOGQ2OC00NTY2LWIzZWItZDE3ODIzNmRlMmE4%40thread.v2/0?context=%7b%22Tid%22%3a%22d6a1cf8c-768e-4187-a738-b6e50c4deb4a%22%2c%22Oid%22%3a%22db6bb6cd-fba6-42d9-93b2-4df6d4dafb80%22%7d\">https://teams.microsoft.com/l/meetup-join/19%3ameeting_YjEyYjJiMjAtOGQ2OC00NTY2LWIzZWItZDE3ODIzNmRlMmE4%40thread.v2/0?context=%7b%22Tid%22%3a%22d6a1cf8c-768e-4187-a738-b6e50c4deb4a%22%2c%22Oid%22%3a%22db6bb6cd-fba6-42d9-93b2-4df6d4dafb80%22%7d</a><br><br><br>Änderungen vorbehalten. Informieren Sie sich kurz vor der Veranstaltung über mögliche Änderungen.<br>Weitere Informationen zur Veranstaltung: <a href=\"https://www.bfh.ch/de/aktuell/fachveranstaltungen/digital-snack-prompt-engineering-for-business-innovation/\">https://www.bfh.ch/de/aktuell/fachveranstaltungen/digital-snack-prompt-engineering-for-business-innovation/</a>
LOCATION:Online\, via MS Teams
END:VEVENT
BEGIN:VTIMEZONE
TZID:Europe/Zurich
LAST-MODIFIED:20260306T231828Z
TZURL:https://www.tzurl.org/zoneinfo/Europe/Zurich
X-LIC-LOCATION:Europe/Zurich
X-PROLEPTIC-TZNAME:LMT
BEGIN:STANDARD
TZNAME:BMT
TZOFFSETFROM:+003408
TZOFFSETTO:+002946
DTSTART:18530716T000000
END:STANDARD
BEGIN:STANDARD
TZNAME:CET
TZOFFSETFROM:+002946
TZOFFSETTO:+0100
DTSTART:18940601T000000
END:STANDARD
BEGIN:DAYLIGHT
TZNAME:CEST
TZOFFSETFROM:+0100
TZOFFSETTO:+0200
DTSTART:19410505T010000
RRULE:FREQ=YEARLY;UNTIL=19420504T000000Z;BYMONTH=5;BYDAY=1MO
END:DAYLIGHT
BEGIN:STANDARD
TZNAME:CET
TZOFFSETFROM:+0200
TZOFFSETTO:+0100
DTSTART:19411006T020000
RRULE:FREQ=YEARLY;UNTIL=19421005T000000Z;BYMONTH=10;BYDAY=1MO
END:STANDARD
BEGIN:DAYLIGHT
TZNAME:CEST
TZOFFSETFROM:+0100
TZOFFSETTO:+0200
DTSTART:19810329T020000
RRULE:FREQ=YEARLY;BYMONTH=3;BYDAY=-1SU
END:DAYLIGHT
BEGIN:STANDARD
TZNAME:CET
TZOFFSETFROM:+0200
TZOFFSETTO:+0100
DTSTART:19810927T030000
RRULE:FREQ=YEARLY;UNTIL=19950924T010000Z;BYMONTH=9;BYDAY=-1SU
END:STANDARD
BEGIN:STANDARD
TZNAME:CET
TZOFFSETFROM:+0200
TZOFFSETTO:+0100
DTSTART:19961027T030000
RRULE:FREQ=YEARLY;BYMONTH=10;BYDAY=-1SU
END:STANDARD
END:VTIMEZONE
END:VCALENDAR
