BEGIN:VCALENDAR
CALSCALE:GREGORIAN
VERSION:2.0
PRODID:bfh.ch /iCal4j
BEGIN:VEVENT
DTSTAMP:20260422T145911Z
DTSTART;TZID=Europe/Zurich:20251201T133000
DTEND;TZID=Europe/Zurich:20251201T160000
SUMMARY:Sicherheit im Dialog: Bevölkerung und Fachpraxis im Gespräch
UID:9a457bde-3aa6-48e8-9b02-20d2cb37f0b3
DESCRIPTION:Sicherheit im Dialog: Bevölkerung und Fachpraxis im Gespräch\nDatum: 01.12.2025\, 13.30–16.00 Uhr\nAnmeldefrist: Die Anmeldefrist ist bis zum 26.11. verlängert.\nKosten: Eine Teilnahme an der Veranstaltung ist kostenlos. Im Anschluss an das Programm wird ein Apéro angeboten.\n\n\nÄnderungen vorbehalten. Informieren Sie sich kurz vor der Veranstaltung über mögliche Änderungen.\nWeitere Informationen zur Veranstaltung: https://www.bfh.ch/de/aktuell/fachveranstaltungen/tagung-sicherheit-im-dialog/
X-ALT-DESC;FMTTYPE=text/html:Sicherheit im Dialog: Bevölkerung und Fachpraxis im Gespräch<br>Datum: 01.12.2025\, 13.30–16.00 Uhr<br>Anmeldefrist: Die Anmeldefrist ist bis zum 26.11. verlängert.<br>Kosten: Eine Teilnahme an der Veranstaltung ist kostenlos. Im Anschluss an das Programm wird ein Apéro angeboten.<br><br><br>Änderungen vorbehalten. Informieren Sie sich kurz vor der Veranstaltung über mögliche Änderungen.<br>Weitere Informationen zur Veranstaltung: <a href=\"https://www.bfh.ch/de/aktuell/fachveranstaltungen/tagung-sicherheit-im-dialog/\">https://www.bfh.ch/de/aktuell/fachveranstaltungen/tagung-sicherheit-im-dialog/</a>
LOCATION:Stellwerk Bern\, Parkterrasse 16\, 3012 Bern
END:VEVENT
BEGIN:VTIMEZONE
TZID:Europe/Zurich
LAST-MODIFIED:20260306T231828Z
TZURL:https://www.tzurl.org/zoneinfo/Europe/Zurich
X-LIC-LOCATION:Europe/Zurich
X-PROLEPTIC-TZNAME:LMT
BEGIN:STANDARD
TZNAME:BMT
TZOFFSETFROM:+003408
TZOFFSETTO:+002946
DTSTART:18530716T000000
END:STANDARD
BEGIN:STANDARD
TZNAME:CET
TZOFFSETFROM:+002946
TZOFFSETTO:+0100
DTSTART:18940601T000000
END:STANDARD
BEGIN:DAYLIGHT
TZNAME:CEST
TZOFFSETFROM:+0100
TZOFFSETTO:+0200
DTSTART:19410505T010000
RRULE:FREQ=YEARLY;UNTIL=19420504T000000Z;BYMONTH=5;BYDAY=1MO
END:DAYLIGHT
BEGIN:STANDARD
TZNAME:CET
TZOFFSETFROM:+0200
TZOFFSETTO:+0100
DTSTART:19411006T020000
RRULE:FREQ=YEARLY;UNTIL=19421005T000000Z;BYMONTH=10;BYDAY=1MO
END:STANDARD
BEGIN:DAYLIGHT
TZNAME:CEST
TZOFFSETFROM:+0100
TZOFFSETTO:+0200
DTSTART:19810329T020000
RRULE:FREQ=YEARLY;BYMONTH=3;BYDAY=-1SU
END:DAYLIGHT
BEGIN:STANDARD
TZNAME:CET
TZOFFSETFROM:+0200
TZOFFSETTO:+0100
DTSTART:19810927T030000
RRULE:FREQ=YEARLY;UNTIL=19950924T010000Z;BYMONTH=9;BYDAY=-1SU
END:STANDARD
BEGIN:STANDARD
TZNAME:CET
TZOFFSETFROM:+0200
TZOFFSETTO:+0100
DTSTART:19961027T030000
RRULE:FREQ=YEARLY;BYMONTH=10;BYDAY=-1SU
END:STANDARD
END:VTIMEZONE
END:VCALENDAR
