BEGIN:VCALENDAR
CALSCALE:GREGORIAN
VERSION:2.0
PRODID:bfh.ch /iCal4j
BEGIN:VEVENT
DTSTAMP:20260423T020337Z
DTSTART;TZID=Europe/Zurich:20260611T183000
DTEND;TZID=Europe/Zurich:20260611T193000
SUMMARY:ONLINE – Master of Science in Life Sciences - Agricultural Science: 11 June 2026
UID:ac13ac32-9a70-4614-8a74-c61ca4214668
DESCRIPTION:ONLINE – Master of Science in Life Sciences - Agricultural Science: 11 June 2026\nDate: 11.06.2026\, 6.30pm–7.30pm\n\n\nSubject to change. Check for any last-minute changes before the event.\nFurther information about the event: https://www.bfh.ch/en/news/information-events/master-of-science-in-life-sciences-agricultural-science-20260611/
X-ALT-DESC;FMTTYPE=text/html:ONLINE – Master of Science in Life Sciences - Agricultural Science: 11 June 2026<br>Date: 11.06.2026\, 6.30pm–7.30pm<br><br><br>Subject to change. Check for any last-minute changes before the event.<br>Further information about the event: <a href=\"https://www.bfh.ch/en/news/information-events/master-of-science-in-life-sciences-agricultural-science-20260611/\">https://www.bfh.ch/en/news/information-events/master-of-science-in-life-sciences-agricultural-science-20260611/</a>
LOCATION:ONLINE via Microsoft Teams
END:VEVENT
BEGIN:VTIMEZONE
TZID:Europe/Zurich
LAST-MODIFIED:20260306T231828Z
TZURL:https://www.tzurl.org/zoneinfo/Europe/Zurich
X-LIC-LOCATION:Europe/Zurich
X-PROLEPTIC-TZNAME:LMT
BEGIN:STANDARD
TZNAME:BMT
TZOFFSETFROM:+003408
TZOFFSETTO:+002946
DTSTART:18530716T000000
END:STANDARD
BEGIN:STANDARD
TZNAME:CET
TZOFFSETFROM:+002946
TZOFFSETTO:+0100
DTSTART:18940601T000000
END:STANDARD
BEGIN:DAYLIGHT
TZNAME:CEST
TZOFFSETFROM:+0100
TZOFFSETTO:+0200
DTSTART:19410505T010000
RRULE:FREQ=YEARLY;UNTIL=19420504T000000Z;BYMONTH=5;BYDAY=1MO
END:DAYLIGHT
BEGIN:STANDARD
TZNAME:CET
TZOFFSETFROM:+0200
TZOFFSETTO:+0100
DTSTART:19411006T020000
RRULE:FREQ=YEARLY;UNTIL=19421005T000000Z;BYMONTH=10;BYDAY=1MO
END:STANDARD
BEGIN:DAYLIGHT
TZNAME:CEST
TZOFFSETFROM:+0100
TZOFFSETTO:+0200
DTSTART:19810329T020000
RRULE:FREQ=YEARLY;BYMONTH=3;BYDAY=-1SU
END:DAYLIGHT
BEGIN:STANDARD
TZNAME:CET
TZOFFSETFROM:+0200
TZOFFSETTO:+0100
DTSTART:19810927T030000
RRULE:FREQ=YEARLY;UNTIL=19950924T010000Z;BYMONTH=9;BYDAY=-1SU
END:STANDARD
BEGIN:STANDARD
TZNAME:CET
TZOFFSETFROM:+0200
TZOFFSETTO:+0100
DTSTART:19961027T030000
RRULE:FREQ=YEARLY;BYMONTH=10;BYDAY=-1SU
END:STANDARD
END:VTIMEZONE
END:VCALENDAR
