BEGIN:VCALENDAR
CALSCALE:GREGORIAN
VERSION:2.0
PRODID:bfh.ch /iCal4j
BEGIN:VEVENT
DTSTAMP:20260422T120812Z
DTSTART;TZID=Europe/Zurich:20260629T130000
DTEND;TZID=Europe/Zurich:20260629T173000
SUMMARY:Workshop Financial incentives : Financial incentives to promote fruit and vegetable consumption: what are the prospects for a local approach?
UID:06580a39-827c-4346-965d-836aaf90d476
DESCRIPTION:Workshop Financial incentives : Financial incentives to promote fruit and vegetable consumption: what are the prospects for a local approach?\nDate: 29.06.2026\, 1pm–5.30pm\nApplication deadline: June 14th\n\n\nSubject to change. Check for any last-minute changes before the event.\nFurther information about the event: https://www.bfh.ch/en/news/events-for-specialists/financial-incentives-29-06-26/
X-ALT-DESC;FMTTYPE=text/html:Workshop Financial incentives : Financial incentives to promote fruit and vegetable consumption: what are the prospects for a local approach?<br>Date: 29.06.2026\, 1pm–5.30pm<br>Application deadline: June 14th<br><br><br>Subject to change. Check for any last-minute changes before the event.<br>Further information about the event: <a href=\"https://www.bfh.ch/en/news/events-for-specialists/financial-incentives-29-06-26/\">https://www.bfh.ch/en/news/events-for-specialists/financial-incentives-29-06-26/</a>
LOCATION:Bern University of Applied Sciences\, Schwarztorstrasse 48 3007 Bern 
END:VEVENT
BEGIN:VTIMEZONE
TZID:Europe/Zurich
LAST-MODIFIED:20260306T231828Z
TZURL:https://www.tzurl.org/zoneinfo/Europe/Zurich
X-LIC-LOCATION:Europe/Zurich
X-PROLEPTIC-TZNAME:LMT
BEGIN:STANDARD
TZNAME:BMT
TZOFFSETFROM:+003408
TZOFFSETTO:+002946
DTSTART:18530716T000000
END:STANDARD
BEGIN:STANDARD
TZNAME:CET
TZOFFSETFROM:+002946
TZOFFSETTO:+0100
DTSTART:18940601T000000
END:STANDARD
BEGIN:DAYLIGHT
TZNAME:CEST
TZOFFSETFROM:+0100
TZOFFSETTO:+0200
DTSTART:19410505T010000
RRULE:FREQ=YEARLY;UNTIL=19420504T000000Z;BYMONTH=5;BYDAY=1MO
END:DAYLIGHT
BEGIN:STANDARD
TZNAME:CET
TZOFFSETFROM:+0200
TZOFFSETTO:+0100
DTSTART:19411006T020000
RRULE:FREQ=YEARLY;UNTIL=19421005T000000Z;BYMONTH=10;BYDAY=1MO
END:STANDARD
BEGIN:DAYLIGHT
TZNAME:CEST
TZOFFSETFROM:+0100
TZOFFSETTO:+0200
DTSTART:19810329T020000
RRULE:FREQ=YEARLY;BYMONTH=3;BYDAY=-1SU
END:DAYLIGHT
BEGIN:STANDARD
TZNAME:CET
TZOFFSETFROM:+0200
TZOFFSETTO:+0100
DTSTART:19810927T030000
RRULE:FREQ=YEARLY;UNTIL=19950924T010000Z;BYMONTH=9;BYDAY=-1SU
END:STANDARD
BEGIN:STANDARD
TZNAME:CET
TZOFFSETFROM:+0200
TZOFFSETTO:+0100
DTSTART:19961027T030000
RRULE:FREQ=YEARLY;BYMONTH=10;BYDAY=-1SU
END:STANDARD
END:VTIMEZONE
END:VCALENDAR
