BEGIN:VCALENDAR
CALSCALE:GREGORIAN
VERSION:2.0
PRODID:bfh.ch /iCal4j
BEGIN:VEVENT
DTSTAMP:20260420T160957Z
DTSTART;TZID=Europe/Zurich:20231103T084500
DTEND;TZID=Europe/Zurich:20231103T170000
SUMMARY:La Journée de la durabilité 2023 organisée par les trois hautes écoles bernoises
UID:a43c83f9-96d6-4bdc-8201-e9aa0ecb9594
DESCRIPTION:La Journée de la durabilité 2023 organisée par les trois hautes écoles bernoises\nDate: 03.11.2023\, 8h45–17h\nDélai d'inscription: Il n'y a pas de délai d'inscription\, mais les sessions interactives ont un nombre limité de places disponibles.\n\n\nSous réserve de modifications. Veuillez vous informer peu avant l'évènement des éventuelles modifications.\nAutres informations relatives à l'évènement: https://www.bfh.ch/fr/actualites/evenements/la-journee-de-la-durabilite-2023-trois-hautes-ecoles-bernoises/
X-ALT-DESC;FMTTYPE=text/html:La Journée de la durabilité 2023 organisée par les trois hautes écoles bernoises<br>Date: 03.11.2023\, 8h45–17h<br>Délai d'inscription: Il n'y a pas de délai d'inscription\, mais les sessions interactives ont un nombre limité de places disponibles.<br><br><br>Sous réserve de modifications. Veuillez vous informer peu avant l'évènement des éventuelles modifications.<br>Autres informations relatives à l'évènement: <a href=\"https://www.bfh.ch/fr/actualites/evenements/la-journee-de-la-durabilite-2023-trois-hautes-ecoles-bernoises/\">https://www.bfh.ch/fr/actualites/evenements/la-journee-de-la-durabilite-2023-trois-hautes-ecoles-bernoises/</a>
LOCATION:Hochschulzentrum vonRoll\, Fabrikstrasse 6/8\, Bern
END:VEVENT
BEGIN:VTIMEZONE
TZID:Europe/Zurich
LAST-MODIFIED:20260306T231828Z
TZURL:https://www.tzurl.org/zoneinfo/Europe/Zurich
X-LIC-LOCATION:Europe/Zurich
X-PROLEPTIC-TZNAME:LMT
BEGIN:STANDARD
TZNAME:BMT
TZOFFSETFROM:+003408
TZOFFSETTO:+002946
DTSTART:18530716T000000
END:STANDARD
BEGIN:STANDARD
TZNAME:CET
TZOFFSETFROM:+002946
TZOFFSETTO:+0100
DTSTART:18940601T000000
END:STANDARD
BEGIN:DAYLIGHT
TZNAME:CEST
TZOFFSETFROM:+0100
TZOFFSETTO:+0200
DTSTART:19410505T010000
RRULE:FREQ=YEARLY;UNTIL=19420504T000000Z;BYMONTH=5;BYDAY=1MO
END:DAYLIGHT
BEGIN:STANDARD
TZNAME:CET
TZOFFSETFROM:+0200
TZOFFSETTO:+0100
DTSTART:19411006T020000
RRULE:FREQ=YEARLY;UNTIL=19421005T000000Z;BYMONTH=10;BYDAY=1MO
END:STANDARD
BEGIN:DAYLIGHT
TZNAME:CEST
TZOFFSETFROM:+0100
TZOFFSETTO:+0200
DTSTART:19810329T020000
RRULE:FREQ=YEARLY;BYMONTH=3;BYDAY=-1SU
END:DAYLIGHT
BEGIN:STANDARD
TZNAME:CET
TZOFFSETFROM:+0200
TZOFFSETTO:+0100
DTSTART:19810927T030000
RRULE:FREQ=YEARLY;UNTIL=19950924T010000Z;BYMONTH=9;BYDAY=-1SU
END:STANDARD
BEGIN:STANDARD
TZNAME:CET
TZOFFSETFROM:+0200
TZOFFSETTO:+0100
DTSTART:19961027T030000
RRULE:FREQ=YEARLY;BYMONTH=10;BYDAY=-1SU
END:STANDARD
END:VTIMEZONE
END:VCALENDAR
