BEGIN:VCALENDAR
CALSCALE:GREGORIAN
VERSION:2.0
PRODID:bfh.ch /iCal4j
BEGIN:VEVENT
DTSTAMP:20260419T170945Z
DTSTART;TZID=Europe/Zurich:20251021T100000
DTEND;TZID=Europe/Zurich:20251022T104000
SUMMARY:Tout ce que vous avez toujours voulu savoir sur l'open access en tant que bibliothécaire
UID:155a98ca-8db4-4c58-80df-28d664d97ab3
DESCRIPTION:Tout ce que vous avez toujours voulu savoir sur l'open access en tant que bibliothécaire\nDate: 21.10.2025\, 10h–10h40 jusqu'à 21.10.2025\nDélai d'inscription: 30 septembre 2025\nStatut: La manifestation se déroulera en allemand.\nCoûts: Gratuit\nLien de participation: https://teams.microsoft.com/l/meetup-join/19%3ameeting_ZjI3ZTFhNTctMmU0OS00NjZhLTkyMjgtMWFkNGM5MGZlMjIz%40thread.v2/0?context=%7b%22Tid%22%3a%22d6a1cf8c-768e-4187-a738-b6e50c4deb4a%22%2c%22Oid%22%3a%2272ad24be-e358-4039-abe3-f58fe4157352%22%7d\n\n\nSous réserve de modifications. Veuillez vous informer peu avant l'évènement des éventuelles modifications.\nAutres informations relatives à l'évènement: https://www.bfh.ch/fr/actualites/evenements-pour-specialistes/open-access-week-2025/
X-ALT-DESC;FMTTYPE=text/html:Tout ce que vous avez toujours voulu savoir sur l'open access en tant que bibliothécaire<br>Date: 21.10.2025\, 10h–10h40 jusqu'à 21.10.2025<br>Délai d'inscription: 30 septembre 2025<br>Statut: La manifestation se déroulera en allemand.<br>Coûts: Gratuit<br>Lien de participation: <a href=\"https://teams.microsoft.com/l/meetup-join/19%3ameeting_ZjI3ZTFhNTctMmU0OS00NjZhLTkyMjgtMWFkNGM5MGZlMjIz%40thread.v2/0?context=%7b%22Tid%22%3a%22d6a1cf8c-768e-4187-a738-b6e50c4deb4a%22%2c%22Oid%22%3a%2272ad24be-e358-4039-abe3-f58fe4157352%22%7d\">https://teams.microsoft.com/l/meetup-join/19%3ameeting_ZjI3ZTFhNTctMmU0OS00NjZhLTkyMjgtMWFkNGM5MGZlMjIz%40thread.v2/0?context=%7b%22Tid%22%3a%22d6a1cf8c-768e-4187-a738-b6e50c4deb4a%22%2c%22Oid%22%3a%2272ad24be-e358-4039-abe3-f58fe4157352%22%7d</a><br><br><br>Sous réserve de modifications. Veuillez vous informer peu avant l'évènement des éventuelles modifications.<br>Autres informations relatives à l'évènement: <a href=\"https://www.bfh.ch/fr/actualites/evenements-pour-specialistes/open-access-week-2025/\">https://www.bfh.ch/fr/actualites/evenements-pour-specialistes/open-access-week-2025/</a>
LOCATION:MS Teams
END:VEVENT
BEGIN:VTIMEZONE
TZID:Europe/Zurich
LAST-MODIFIED:20260306T231828Z
TZURL:https://www.tzurl.org/zoneinfo/Europe/Zurich
X-LIC-LOCATION:Europe/Zurich
X-PROLEPTIC-TZNAME:LMT
BEGIN:STANDARD
TZNAME:BMT
TZOFFSETFROM:+003408
TZOFFSETTO:+002946
DTSTART:18530716T000000
END:STANDARD
BEGIN:STANDARD
TZNAME:CET
TZOFFSETFROM:+002946
TZOFFSETTO:+0100
DTSTART:18940601T000000
END:STANDARD
BEGIN:DAYLIGHT
TZNAME:CEST
TZOFFSETFROM:+0100
TZOFFSETTO:+0200
DTSTART:19410505T010000
RRULE:FREQ=YEARLY;UNTIL=19420504T000000Z;BYMONTH=5;BYDAY=1MO
END:DAYLIGHT
BEGIN:STANDARD
TZNAME:CET
TZOFFSETFROM:+0200
TZOFFSETTO:+0100
DTSTART:19411006T020000
RRULE:FREQ=YEARLY;UNTIL=19421005T000000Z;BYMONTH=10;BYDAY=1MO
END:STANDARD
BEGIN:DAYLIGHT
TZNAME:CEST
TZOFFSETFROM:+0100
TZOFFSETTO:+0200
DTSTART:19810329T020000
RRULE:FREQ=YEARLY;BYMONTH=3;BYDAY=-1SU
END:DAYLIGHT
BEGIN:STANDARD
TZNAME:CET
TZOFFSETFROM:+0200
TZOFFSETTO:+0100
DTSTART:19810927T030000
RRULE:FREQ=YEARLY;UNTIL=19950924T010000Z;BYMONTH=9;BYDAY=-1SU
END:STANDARD
BEGIN:STANDARD
TZNAME:CET
TZOFFSETFROM:+0200
TZOFFSETTO:+0100
DTSTART:19961027T030000
RRULE:FREQ=YEARLY;BYMONTH=10;BYDAY=-1SU
END:STANDARD
END:VTIMEZONE
END:VCALENDAR
