BEGIN:VCALENDAR
CALSCALE:GREGORIAN
VERSION:2.0
PRODID:bfh.ch /iCal4j
BEGIN:VEVENT
DTSTAMP:20260423T061518Z
DTSTART;TZID=Europe/Zurich:20230824T121500
DTEND;TZID=Europe/Zurich:20230824T131500
SUMMARY:SORA - eine Sozialpädagogische Institution auf dem Platz Bern geht grosse Schritte Richtung Neues Lohnmodell:  Soziale Innovation am Mittag 
UID:412280d7-eead-4174-a9b3-456b2f5f06c8
DESCRIPTION:SORA - eine Sozialpädagogische Institution auf dem Platz Bern geht grosse Schritte Richtung Neues Lohnmodell:  Soziale Innovation am Mittag \nDatum: 24.08.2023\, 12.15–13.15 Uhr\nAnmeldefrist: Für die Teilnahme vor Ort: 17.8.2023 / Für die Onlineteilnahme: 24.08.2023\nKosten: Die Veranstaltung ist kostenlos. Um Anmeldung wird gebeten. Ein kleiner Lunch wird vor Ort offeriert.\n\n\nÄnderungen vorbehalten. Informieren Sie sich kurz vor der Veranstaltung über mögliche Änderungen.\nWeitere Informationen zur Veranstaltung: https://www.bfh.ch/de/aktuell/fachveranstaltungen/soziale-innovation-am-mittag2/
X-ALT-DESC;FMTTYPE=text/html:SORA - eine Sozialpädagogische Institution auf dem Platz Bern geht grosse Schritte Richtung Neues Lohnmodell:  Soziale Innovation am Mittag <br>Datum: 24.08.2023\, 12.15–13.15 Uhr<br>Anmeldefrist: Für die Teilnahme vor Ort: 17.8.2023 / Für die Onlineteilnahme: 24.08.2023<br>Kosten: Die Veranstaltung ist kostenlos. Um Anmeldung wird gebeten. Ein kleiner Lunch wird vor Ort offeriert.<br><br><br>Änderungen vorbehalten. Informieren Sie sich kurz vor der Veranstaltung über mögliche Änderungen.<br>Weitere Informationen zur Veranstaltung: <a href=\"https://www.bfh.ch/de/aktuell/fachveranstaltungen/soziale-innovation-am-mittag2/\">https://www.bfh.ch/de/aktuell/fachveranstaltungen/soziale-innovation-am-mittag2/</a>
LOCATION:Berner Fachhochschule BFH\, Hallerstrasse 8\, Raum 218\, Bern und Online
END:VEVENT
BEGIN:VTIMEZONE
TZID:Europe/Zurich
LAST-MODIFIED:20260306T231828Z
TZURL:https://www.tzurl.org/zoneinfo/Europe/Zurich
X-LIC-LOCATION:Europe/Zurich
X-PROLEPTIC-TZNAME:LMT
BEGIN:STANDARD
TZNAME:BMT
TZOFFSETFROM:+003408
TZOFFSETTO:+002946
DTSTART:18530716T000000
END:STANDARD
BEGIN:STANDARD
TZNAME:CET
TZOFFSETFROM:+002946
TZOFFSETTO:+0100
DTSTART:18940601T000000
END:STANDARD
BEGIN:DAYLIGHT
TZNAME:CEST
TZOFFSETFROM:+0100
TZOFFSETTO:+0200
DTSTART:19410505T010000
RRULE:FREQ=YEARLY;UNTIL=19420504T000000Z;BYMONTH=5;BYDAY=1MO
END:DAYLIGHT
BEGIN:STANDARD
TZNAME:CET
TZOFFSETFROM:+0200
TZOFFSETTO:+0100
DTSTART:19411006T020000
RRULE:FREQ=YEARLY;UNTIL=19421005T000000Z;BYMONTH=10;BYDAY=1MO
END:STANDARD
BEGIN:DAYLIGHT
TZNAME:CEST
TZOFFSETFROM:+0100
TZOFFSETTO:+0200
DTSTART:19810329T020000
RRULE:FREQ=YEARLY;BYMONTH=3;BYDAY=-1SU
END:DAYLIGHT
BEGIN:STANDARD
TZNAME:CET
TZOFFSETFROM:+0200
TZOFFSETTO:+0100
DTSTART:19810927T030000
RRULE:FREQ=YEARLY;UNTIL=19950924T010000Z;BYMONTH=9;BYDAY=-1SU
END:STANDARD
BEGIN:STANDARD
TZNAME:CET
TZOFFSETFROM:+0200
TZOFFSETTO:+0100
DTSTART:19961027T030000
RRULE:FREQ=YEARLY;BYMONTH=10;BYDAY=-1SU
END:STANDARD
END:VTIMEZONE
END:VCALENDAR
